BEGIN:VCALENDAR
VERSION:2.0
PRODID:-//Bellerive Historical Society Inc. - ECPv6.15.17//NONSGML v1.0//EN
CALSCALE:GREGORIAN
METHOD:PUBLISH
X-WR-CALNAME:Bellerive Historical Society Inc.
X-ORIGINAL-URL:https://www.bellerivehistory.com
X-WR-CALDESC:Events for Bellerive Historical Society Inc.
REFRESH-INTERVAL;VALUE=DURATION:PT1H
X-Robots-Tag:noindex
X-PUBLISHED-TTL:PT1H
BEGIN:VTIMEZONE
TZID:Australia/Hobart
BEGIN:STANDARD
TZOFFSETFROM:+1100
TZOFFSETTO:+1000
TZNAME:AEST
DTSTART:20210403T160000
END:STANDARD
BEGIN:DAYLIGHT
TZOFFSETFROM:+1000
TZOFFSETTO:+1100
TZNAME:AEDT
DTSTART:20211002T160000
END:DAYLIGHT
BEGIN:STANDARD
TZOFFSETFROM:+1100
TZOFFSETTO:+1000
TZNAME:AEST
DTSTART:20220402T160000
END:STANDARD
BEGIN:DAYLIGHT
TZOFFSETFROM:+1000
TZOFFSETTO:+1100
TZNAME:AEDT
DTSTART:20221001T160000
END:DAYLIGHT
BEGIN:STANDARD
TZOFFSETFROM:+1100
TZOFFSETTO:+1000
TZNAME:AEST
DTSTART:20230401T160000
END:STANDARD
BEGIN:DAYLIGHT
TZOFFSETFROM:+1000
TZOFFSETTO:+1100
TZNAME:AEDT
DTSTART:20230930T160000
END:DAYLIGHT
BEGIN:STANDARD
TZOFFSETFROM:+1100
TZOFFSETTO:+1000
TZNAME:AEST
DTSTART:20240406T160000
END:STANDARD
BEGIN:DAYLIGHT
TZOFFSETFROM:+1000
TZOFFSETTO:+1100
TZNAME:AEDT
DTSTART:20241005T160000
END:DAYLIGHT
BEGIN:STANDARD
TZOFFSETFROM:+1100
TZOFFSETTO:+1000
TZNAME:AEST
DTSTART:20250405T160000
END:STANDARD
BEGIN:DAYLIGHT
TZOFFSETFROM:+1000
TZOFFSETTO:+1100
TZNAME:AEDT
DTSTART:20251004T160000
END:DAYLIGHT
END:VTIMEZONE
BEGIN:VEVENT
DTSTART;TZID=Australia/Hobart:20241001T133000
DTEND;TZID=Australia/Hobart:20241001T150000
DTSTAMP:20260421T221837
CREATED:20240522T013326Z
LAST-MODIFIED:20240925T213552Z
UID:6421-1727789400-1727794800@www.bellerivehistory.com
SUMMARY:Coastline of Tasmania
DESCRIPTION:Peter Marmion has almost completed a walk around the coastline of Tasmania. Come and enjoy his experiences and amazing photos.
URL:https://www.bellerivehistory.com/event/coastline-of-tasmania/
LOCATION:Howrah Community Centre\, 11 Howrah Road\, Howrah\, Hobart\, Tasmania\, 7018
END:VEVENT
BEGIN:VEVENT
DTSTART;TZID=Australia/Hobart:20240903T190000
DTEND;TZID=Australia/Hobart:20240903T203000
DTSTAMP:20260421T221837
CREATED:20240522T013749Z
LAST-MODIFIED:20240731T005538Z
UID:6423-1725390000-1725395400@www.bellerivehistory.com
SUMMARY:Show and Tell
DESCRIPTION:The ever popular annual Show and Tell meeting. Bring any historic item that may be of interest to fellow members.
URL:https://www.bellerivehistory.com/event/show-and-tell-2/
LOCATION:Howrah Community Centre\, 11 Howrah Road\, Howrah\, Hobart\, Tasmania\, 7018
END:VEVENT
BEGIN:VEVENT
DTSTART;TZID=Australia/Hobart:20240806T133000
DTEND;TZID=Australia/Hobart:20240806T150000
DTSTAMP:20260421T221837
CREATED:20240508T014724Z
LAST-MODIFIED:20240508T014833Z
UID:6406-1722951000-1722956400@www.bellerivehistory.com
SUMMARY:Annual Fun Quiz
DESCRIPTION:John Sargent will hold his annual fun quiz on local history.
URL:https://www.bellerivehistory.com/event/annual-fun-quiz/
LOCATION:Howrah Community Centre\, 11 Howrah Road\, Howrah\, Hobart\, Tasmania\, 7018
END:VEVENT
BEGIN:VEVENT
DTSTART;TZID=Australia/Hobart:20240702T190000
DTEND;TZID=Australia/Hobart:20240702T203000
DTSTAMP:20260421T221837
CREATED:20240605T004335Z
LAST-MODIFIED:20240605T004335Z
UID:6429-1719946800-1719952200@www.bellerivehistory.com
SUMMARY:THE TASMAN BRIDGE DISASTER REVISITED
DESCRIPTION:2025 with be the fiftieth anniversary of the Tasman Bridge collapse. John Sargent will be revisiting this dramatic event that had major social impact to the residents of both the eastern and western side of the Derwent River.
URL:https://www.bellerivehistory.com/event/the-tasman-bridge-disaster-revisited-2/
LOCATION:Howrah Community Centre\, 11 Howrah Road\, Howrah\, Hobart\, Tasmania\, 7018
END:VEVENT
BEGIN:VEVENT
DTSTART;TZID=Australia/Hobart:20240604T133000
DTEND;TZID=Australia/Hobart:20240604T150000
DTSTAMP:20260421T221837
CREATED:20240508T013924Z
LAST-MODIFIED:20240508T014941Z
UID:6402-1717507800-1717513200@www.bellerivehistory.com
SUMMARY:A Blast from the Past
DESCRIPTION:In this two part presentation John Sargent talks about his new book which is a fictional account of mid-1800s Wapping and Peter Oldham presents his new video about the Risdon Punt.
URL:https://www.bellerivehistory.com/event/a-blast-from-the-past/
LOCATION:Howrah Community Centre\, 11 Howrah Road\, Howrah\, Hobart\, Tasmania\, 7018
END:VEVENT
BEGIN:VEVENT
DTSTART;TZID=Australia/Hobart:20240515T100000
DTEND;TZID=Australia/Hobart:20240515T120000
DTSTAMP:20260421T221837
CREATED:20240508T015640Z
LAST-MODIFIED:20240508T015640Z
UID:6411-1715767200-1715774400@www.bellerivehistory.com
SUMMARY:OFFICE OPEN
DESCRIPTION:The office will be open for enquiries or if you just want to call in and have a chat.
URL:https://www.bellerivehistory.com/event/office-open-4/
LOCATION:Tasmania
END:VEVENT
BEGIN:VEVENT
DTSTART;TZID=Australia/Hobart:20240507T190000
DTEND;TZID=Australia/Hobart:20240507T203000
DTSTAMP:20260421T221837
CREATED:20240305T232655Z
LAST-MODIFIED:20240306T013635Z
UID:6390-1715108400-1715113800@www.bellerivehistory.com
SUMMARY:Great Tasmanian Crimes and Trails of the 19th Century
DESCRIPTION:Alan Townsend\, Historical Officer for Clarence City Council\, will be taking us into the dark side of Tasmanian history with his talk on great crimes and trails of the 19th Century.
URL:https://www.bellerivehistory.com/event/presentation-by-alan-townsend-historical-officer-for-clarence-city-council/
LOCATION:Howrah Community Centre\, 11 Howrah Road\, Howrah\, Hobart\, Tasmania\, 7018
END:VEVENT
BEGIN:VEVENT
DTSTART;TZID=Australia/Hobart:20240402T133000
DTEND;TZID=Australia/Hobart:20240402T150000
DTSTAMP:20260421T221837
CREATED:20240206T230715Z
LAST-MODIFIED:20240326T041805Z
UID:6383-1712064600-1712070000@www.bellerivehistory.com
SUMMARY:CANCELLATION OF "THE TASMAN BRIDGE DISASTER REVISITED" PRESENTATION
DESCRIPTION:The 2 April presentation of  “The Tasman Bridge Disaster Revisited” by John Sargent and April meeting of the Society has been cancelled due to the venue\, the Howrah Community Centre\, being closed for the Easter weekend.
URL:https://www.bellerivehistory.com/event/the-tasman-bridge-disaster-revisited/
LOCATION:Howrah Community Centre\, 11 Howrah Road\, Howrah\, Hobart\, Tasmania\, 7018
CATEGORIES:Event
END:VEVENT
BEGIN:VEVENT
DTSTART;TZID=Australia/Hobart:20240306T100000
DTEND;TZID=Australia/Hobart:20240306T120000
DTSTAMP:20260421T221837
CREATED:20240228T002525Z
LAST-MODIFIED:20240228T002525Z
UID:6388-1709719200-1709726400@www.bellerivehistory.com
SUMMARY:OFFICE OPEN
DESCRIPTION:The office will be open for enquiries or if you just want to call in and have a chat.
URL:https://www.bellerivehistory.com/event/office-open-3/
LOCATION:Bellerive Community Arts Centre\, 17 Cambridge Road\, Bellerive\, Tasmania\, 7018\, Australia
CATEGORIES:Event
END:VEVENT
BEGIN:VEVENT
DTSTART;TZID=Australia/Hobart:20240305T190000
DTEND;TZID=Australia/Hobart:20240305T203000
DTSTAMP:20260421T221837
CREATED:20240123T233624Z
LAST-MODIFIED:20240131T002527Z
UID:6375-1709665200-1709670600@www.bellerivehistory.com
SUMMARY:The History of Claremont Army Camp and the Cadbury peninsula
DESCRIPTION:John Wadsley has a background as a professional heritage consultant and historian. He has a strong interest in Australian military history and co-authored the bicentennial history of Anglesea Barracks in Hobart published in 2011. The presentation will explore the history of Triffitts Point\, later known as Cadbury peninsula. From its early colonial history as farm land\, through its time as an army camp and then industrialisation with the coming of Cadbury to Tasmania to the present with a proposal to for a housing development.
URL:https://www.bellerivehistory.com/event/the-history-of-claremont-army-camp-and-the-cadbury-peninsula/
LOCATION:Howrah Community Centre\, 11 Howrah Road\, Howrah\, Hobart\, Tasmania\, 7018
END:VEVENT
BEGIN:VEVENT
DTSTART;TZID=Australia/Hobart:20240207T093000
DTEND;TZID=Australia/Hobart:20240207T120000
DTSTAMP:20260421T221837
CREATED:20240131T003407Z
LAST-MODIFIED:20240131T003407Z
UID:6379-1707298200-1707307200@www.bellerivehistory.com
SUMMARY:OFFICE OPEN
DESCRIPTION:The office will be open for enquiries or if you just want to call in and have a chat.
URL:https://www.bellerivehistory.com/event/office-open-2/
LOCATION:Bellerive Community Arts Centre\, 17 Cambridge Road\, Bellerive\, Tasmania\, 7018\, Australia
END:VEVENT
BEGIN:VEVENT
DTSTART;TZID=Australia/Hobart:20240206T133000
DTEND;TZID=Australia/Hobart:20240206T150000
DTSTAMP:20260421T221837
CREATED:20240123T231537Z
LAST-MODIFIED:20240123T231848Z
UID:6371-1707226200-1707231600@www.bellerivehistory.com
SUMMARY:Katie Jennings
DESCRIPTION:Karen Darby is the great granddaughter of William and Katie Jennings\, William features in our Bellerive Heritage book volume 4. Karen will be talking about Katie Jennings who was a young bride in Bellerive in 1920 and lived there until 1939.
URL:https://www.bellerivehistory.com/event/katie-jennings/
LOCATION:Howrah Community Centre\, 11 Howrah Road\, Howrah\, Hobart\, Tasmania\, 7018
END:VEVENT
BEGIN:VEVENT
DTSTART;TZID=Australia/Hobart:20231107T133000
DTEND;TZID=Australia/Hobart:20231107T151500
DTSTAMP:20260421T221837
CREATED:20230830T003625Z
LAST-MODIFIED:20230830T003625Z
UID:6350-1699363800-1699370100@www.bellerivehistory.com
SUMMARY:MONTHLY GATHERING: MELBOURNE CUP SPECIAL
DESCRIPTION:It is not well known that there was horse running on the Eastern Shore at Muddy Plains. In our Melbourne Cup Special gathering John Sargent will tell us about the history of horse racing at Muddy Plains. Then for those who wish to stay\, we will watch the Melbourne Cup together.
URL:https://www.bellerivehistory.com/event/monthly-gathering-melbourne-cup-special/
LOCATION:Tasmania
CATEGORIES:Event
END:VEVENT
BEGIN:VEVENT
DTSTART;TZID=Australia/Hobart:20231018T100000
DTEND;TZID=Australia/Hobart:20231018T150000
DTSTAMP:20260421T221837
CREATED:20230816T014526Z
LAST-MODIFIED:20230816T014526Z
UID:6329-1697623200-1697641200@www.bellerivehistory.com
SUMMARY:SENIOR'S WEEK: BELLERIVE HUB OPEN DAY
DESCRIPTION:Bellerive Historical Society is one of five volunteer-run Bellerive organisations opening their doors on the Wednesday of Seniors Week (18 October) to offer a unique “hub” experience in multiple venues located within close walking distance of each other. Visit us at 17 CAMBRIDGE ROAD\, BELLERIVE (ARTS CENTRE). You may also want to take the opportunity to visit the wonderful collection in the Sound Museum\, do a little Family History\, observe some arts and craft\, check out the Education and Research Centre and do a short walk of historical Bellerive Bluff after collecting a free map from us.
URL:https://www.bellerivehistory.com/event/seniors-week-bellerive-hub-open-day/
LOCATION:Tasmania
CATEGORIES:Event
END:VEVENT
BEGIN:VEVENT
DTSTART;TZID=Australia/Hobart:20231014T100000
DTEND;TZID=Australia/Hobart:20231014T120000
DTSTAMP:20260421T221837
CREATED:20230823T002943Z
LAST-MODIFIED:20230823T003607Z
UID:6346-1697277600-1697284800@www.bellerivehistory.com
SUMMARY:Excursion: Soldier Settlement Farm Collection
DESCRIPTION:There will be an outing on Saturday 14 October at 10am to view the Soldier Settlement Farm Collection. \nThe owner\, David Graham will make his collection available for viewing to BHS members and will give a talk on various items. \nThe address is 222 Grahams Road\, Mt Rumney. \nNumbers are limited. So if you wish to attend please contact Mike Geard on 0400 974 056 (txt is okay). \n 
URL:https://www.bellerivehistory.com/event/excursion-soldier-settlement-farm-collection/
LOCATION:Tasmania
CATEGORIES:Event
END:VEVENT
BEGIN:VEVENT
DTSTART;TZID=Australia/Hobart:20231003T133000
DTEND;TZID=Australia/Hobart:20231003T150000
DTSTAMP:20260421T221837
CREATED:20230816T012232Z
LAST-MODIFIED:20230816T012943Z
UID:6323-1696339800-1696345200@www.bellerivehistory.com
SUMMARY:MONTHLY GATHERING: THE STORY OF ALEXANDER MACONOCHIE
DESCRIPTION:Rosie Severs will tell us about the fascinating story of ALEXANDER MACONOCHIE a Naval Officer\, Geographer and\nPenal Reformer. In 1836 he was appointed Private Secretary to his friend  Lieutenant-Governor John Franklin\nand left England for Hobart Town. He was later to become Governor of Norfolk Island.
URL:https://www.bellerivehistory.com/event/the-story-of-alexander-maconochie/
LOCATION:Tasmania
CATEGORIES:Event
END:VEVENT
BEGIN:VEVENT
DTSTART;TZID=Australia/Hobart:20230905T143000
DTEND;TZID=Australia/Hobart:20230905T160000
DTSTAMP:20260421T221837
CREATED:20230816T001816Z
LAST-MODIFIED:20230816T013017Z
UID:6321-1693924200-1693929600@www.bellerivehistory.com
SUMMARY:MONTHLY GATHERING: SHOW AND TELL
DESCRIPTION:If you have something at home of historical interest you would like to share with fellow members\, please bring it along to the monthly meeting and tell us about it.
URL:https://www.bellerivehistory.com/event/show-and-tell/
LOCATION:Tasmania
CATEGORIES:Monthly Meeting
END:VEVENT
BEGIN:VEVENT
DTSTART;TZID=Australia/Hobart:20230823T100000
DTEND;TZID=Australia/Hobart:20230823T120000
DTSTAMP:20260421T221837
CREATED:20230816T015211Z
LAST-MODIFIED:20230816T015211Z
UID:6331-1692784800-1692792000@www.bellerivehistory.com
SUMMARY:OPEN OFFICE
DESCRIPTION:Our office will be open for the covariance of members and public who wish to view our extensive archive collections
URL:https://www.bellerivehistory.com/event/open-office-2/
LOCATION:Tasmania
CATEGORIES:Event
END:VEVENT
BEGIN:VEVENT
DTSTART;TZID=Australia/Hobart:20230801T143000
DTEND;TZID=Australia/Hobart:20230801T160000
DTSTAMP:20260421T221837
CREATED:20230614T001512Z
LAST-MODIFIED:20230719T015713Z
UID:6216-1690900200-1690905600@www.bellerivehistory.com
SUMMARY:Old Picture Afternoon
DESCRIPTION:Please Note a change in day and time for our August and September 2023 gatherings. This has come about via members suggestions to have a trial for daytime meetings. For these two months we will meet at 2.30pm on the first Tuesday of the month at the regular venue\, Howrah Community Centre. With daylight saving starting in October\, we will revert to our first Wednesday of the month evening time of 7pm. \nOur first daytime meeting will be a picture show by Peter Oldham who will show us some old photos of Bellerive. Some photos we will know the story of and some we are looking for your help in identifying the approximate year of when and where the photo was taken. So put on your thinking caps and come along and have a good time and enjoy some afternoon tea.
URL:https://www.bellerivehistory.com/event/the-olde-picture-day/
LOCATION:Howrah Community Centre\, 11 Howrah Road\, Howrah\, Hobart\, Tasmania\, 7018
CATEGORIES:Monthly Meeting
END:VEVENT
BEGIN:VEVENT
DTSTART;TZID=Australia/Hobart:20230705T190000
DTEND;TZID=Australia/Hobart:20230705T203000
DTSTAMP:20260421T221837
CREATED:20230524T005740Z
LAST-MODIFIED:20230524T012243Z
UID:6211-1688583600-1688589000@www.bellerivehistory.com
SUMMARY:Monthly Gathering
DESCRIPTION:Do you know the number of the bus stop leaving for Hobart outside Riva Est Cafe in Bellerive Village or do you know the year the Tasman Bridge was opened? At this month’s gathering you will have the opportunity to join fellow members being tested in a fun way by our local historian and group patron John Sargent.
URL:https://www.bellerivehistory.com/event/monthly-gathering-6/
LOCATION:Howrah Community Centre\, 11 Howrah Road\, Howrah\, Hobart\, Tasmania\, 7018
CATEGORIES:Monthly Meeting
END:VEVENT
BEGIN:VEVENT
DTSTART;TZID=Australia/Hobart:20230607T190000
DTEND;TZID=Australia/Hobart:20230607T203000
DTSTAMP:20260421T221837
CREATED:20230322T011617Z
LAST-MODIFIED:20230322T020822Z
UID:6204-1686164400-1686169800@www.bellerivehistory.com
SUMMARY:Monthly Gathering
DESCRIPTION:Doll’s houses – what do they have to do with history?\nMiniature homes\, furnished with domestic articles and resident inhabitants\, both people and\nanimals\, have been made for thousands of years. The earliest known examples were found in\nthe Egyptian tombs of the Old Kingdom\, created nearly five thousand years ago (ref. Wikipedia).\nHomes belonging to wealthy folk were recreated which allowed for interior design and training of\nyoung girls in how to run a home. The earliest known commissioned home was 1557-1558.\nLindy will share some of her pieces that have evolved from a ‘flat-pack’ and show items made\nfrom scratch that are a replica of an earlier original. eg 1/12 th scale commode from Runneymede.
URL:https://www.bellerivehistory.com/event/monthly-gathering-5/
LOCATION:Howrah Community Centre\, 11 Howrah Road\, Howrah\, Hobart\, Tasmania\, 7018
CATEGORIES:Event
ATTACH;FMTTYPE=image/jpeg:https://www.bellerivehistory.com/wp-content/uploads/2023/03/20230322_111138-scaled.jpg
END:VEVENT
BEGIN:VEVENT
DTSTART;TZID=Australia/Hobart:20230503T190000
DTEND;TZID=Australia/Hobart:20230503T203000
DTSTAMP:20260421T221837
CREATED:20230118T010402Z
LAST-MODIFIED:20230321T234109Z
UID:6174-1683140400-1683145800@www.bellerivehistory.com
SUMMARY:Monthly Gathering
DESCRIPTION:Hobart’s Jewish History\, 1828 – Present. \nJeff Schneider\, President of the Hebrew Hobart Congregation will give a presentation of the long and remarkable history of Hobart’s small Jewish community. Most of this history can be found in the Congregation’s free digital archive with documents dating back to 1828.
URL:https://www.bellerivehistory.com/event/monthly-gathering-4/
LOCATION:Tasmania
CATEGORIES:Monthly Meeting
END:VEVENT
BEGIN:VEVENT
DTSTART;TZID=Australia/Hobart:20230405T190000
DTEND;TZID=Australia/Hobart:20230405T203000
DTSTAMP:20260421T221837
CREATED:20230118T004103Z
LAST-MODIFIED:20230118T004103Z
UID:6170-1680721200-1680726600@www.bellerivehistory.com
SUMMARY:Monthly Gathering
DESCRIPTION:Our members Kathy Fazackerley and Lindy Mollineaux say you are never too old to “Try the Diploma of Family History”.
URL:https://www.bellerivehistory.com/event/monthly-gathering-3/
LOCATION:Howrah Community Centre\, 11 Howrah Road\, Howrah\, Hobart\, Tasmania\, 7018
CATEGORIES:Monthly Meeting
END:VEVENT
BEGIN:VEVENT
DTSTART;TZID=Australia/Hobart:20230329T093000
DTEND;TZID=Australia/Hobart:20230329T120000
DTSTAMP:20260421T221837
CREATED:20230321T233737Z
LAST-MODIFIED:20230321T235802Z
UID:6196-1680082200-1680091200@www.bellerivehistory.com
SUMMARY:Office Open
DESCRIPTION:Office open 9.30 am – 12 pm so please call in if you are interested in Bellerive history. If you are thinking of having a clean out and have old photos or books about Bellerive we would love you to donate them to us. \n  \n 
URL:https://www.bellerivehistory.com/event/office-open/
LOCATION:Bellerive Community Arts Centre\, 17 Cambridge Road\, Bellerive\, Tasmania\, 7018\, Australia
CATEGORIES:Event
ATTACH;FMTTYPE=image/jpeg:https://www.bellerivehistory.com/wp-content/uploads/2023/03/336557396_734612831443222_2089273934271923351_n-1.jpg
END:VEVENT
BEGIN:VEVENT
DTSTART;TZID=Australia/Hobart:20230301T190000
DTEND;TZID=Australia/Hobart:20230301T203000
DTSTAMP:20260421T221837
CREATED:20230118T003045Z
LAST-MODIFIED:20230118T003045Z
UID:6167-1677697200-1677702600@www.bellerivehistory.com
SUMMARY:Monthly Gathering
DESCRIPTION:Come along to hear the ‘Sounds of Hobart’ by Philip Tyson. Phil will play you some of the Captured sounds of Hobart’s past through recorded sounds.
URL:https://www.bellerivehistory.com/event/monthly-gathering-2/
LOCATION:Howrah Community Centre\, 11 Howrah Road\, Howrah\, Hobart\, Tasmania\, 7018
CATEGORIES:Monthly Meeting
END:VEVENT
BEGIN:VEVENT
DTSTART;TZID=Australia/Hobart:20230201T190000
DTEND;TZID=Australia/Hobart:20230201T203000
DTSTAMP:20260421T221837
CREATED:20230118T001528Z
LAST-MODIFIED:20230118T002418Z
UID:6165-1675278000-1675283400@www.bellerivehistory.com
SUMMARY:Monthly Gathering
DESCRIPTION:Our February meeting has the dynamic Peter Oldham interviewing member Judy McKay about some of her entertaining life adventures
URL:https://www.bellerivehistory.com/event/monthly-gathering/
LOCATION:Howrah Community Centre\, 11 Howrah Road\, Howrah\, Hobart\, Tasmania\, 7018
CATEGORIES:Monthly Meeting
END:VEVENT
BEGIN:VEVENT
DTSTART;TZID=Australia/Hobart:20230125T100000
DTEND;TZID=Australia/Hobart:20230125T120000
DTSTAMP:20260421T221837
CREATED:20230118T010630Z
LAST-MODIFIED:20230124T070659Z
UID:6177-1674640800-1674648000@www.bellerivehistory.com
SUMMARY:Open Office
DESCRIPTION:The office will be open. All are welcome to drop in.
URL:https://www.bellerivehistory.com/event/open-office/
LOCATION:Tasmania
CATEGORIES:Event
ATTACH;FMTTYPE=image/jpeg:https://www.bellerivehistory.com/wp-content/uploads/2022/07/bhs-office.jpg
END:VEVENT
BEGIN:VEVENT
DTSTART;TZID=Australia/Hobart:20221207T120000
DTEND;TZID=Australia/Hobart:20221207T160000
DTSTAMP:20260421T221837
CREATED:20190605T224320Z
LAST-MODIFIED:20220925T064426Z
UID:690-1670414400-1670428800@www.bellerivehistory.com
SUMMARY:End Of Year Function
DESCRIPTION:End of year function. \nLunch at the Waterfront Hotel in the village at 12 noon. \nContact Mike 0400 974 056 if you wish to attend
URL:https://www.bellerivehistory.com/event/end-of-year-function-7-december-2022/
LOCATION:Kangaroo Bay Ferry Terminal\, 4 Cambridge Road\, Bellerive\, Tasmania\, 7018\, Australia
CATEGORIES:Event,Function
ATTACH;FMTTYPE=image/jpeg:https://www.bellerivehistory.com/wp-content/uploads/2019/06/BHS-Events-7-december-22-EOY-function.jpg
END:VEVENT
BEGIN:VEVENT
DTSTART;TZID=Australia/Hobart:20221102T190000
DTEND;TZID=Australia/Hobart:20221102T220000
DTSTAMP:20260421T221837
CREATED:20190603T225349Z
LAST-MODIFIED:20220925T030305Z
UID:483-1667415600-1667426400@www.bellerivehistory.com
SUMMARY:Monthly meeting at Howrah Community Centre
DESCRIPTION:Mike Severs talking on Charles Babbage who was a 19th-century mathematician\, engineer and inventor. Among the many things he invented were cow catchers for steam locomotives and coloured spotlights for theatrical productions. \nBut he’s most famous for his invention of calculating machines\, mechanical precursors to computers. Babbage created a working model of his first calculating engine in June 1822\, so 2022 is the 200th anniversary of this event. \nBabbage is also famous for his friendship with Lord Byron’s daughter Ada Lovelace. She wrote a program for one of his calculating engines\, and as a result she is often credited with being the world’s first computer programmer. This talk has a rich cast of people and interesting stories.
URL:https://www.bellerivehistory.com/event/monthly-meeting-at-howrah-community-centre-2-november-2022/
LOCATION:Howrah Community Centre\, 11 Howrah Road\, Howrah\, Hobart\, Tasmania\, 7018
CATEGORIES:Monthly Meeting
ATTACH;FMTTYPE=image/jpeg:https://www.bellerivehistory.com/wp-content/uploads/2019/06/BHS-Events-2-November-22-Charles-Babbage.jpg
END:VEVENT
BEGIN:VEVENT
DTSTART;TZID=Australia/Hobart:20221019T210000
DTEND;TZID=Australia/Hobart:20221020T030000
DTSTAMP:20260421T221837
CREATED:20190603T225111Z
LAST-MODIFIED:20220925T024752Z
UID:478-1666213200-1666234800@www.bellerivehistory.com
SUMMARY:Senior's Week
DESCRIPTION:Senior’s Week – BHS Office open from 10am to 4pm with volunteers to assist with research. \nAll visitors will receive a free copy of “Bellerive Village – A Walk through History” brochure.
URL:https://www.bellerivehistory.com/event/seniors-week/
LOCATION:Bellerive Community Arts Centre\, 17 Cambridge Road\, Bellerive\, Tasmania\, 7018\, Australia
CATEGORIES:Event
ATTACH;FMTTYPE=image/jpeg:https://www.bellerivehistory.com/wp-content/uploads/2019/06/BHS-Events-19-October-22-Seniors-Week.jpg
END:VEVENT
END:VCALENDAR