BEGIN:VCALENDAR
VERSION:2.0
PRODID:-//Bellerive Historical Society Inc. - ECPv6.15.17//NONSGML v1.0//EN
CALSCALE:GREGORIAN
METHOD:PUBLISH
X-WR-CALNAME:Bellerive Historical Society Inc.
X-ORIGINAL-URL:https://www.bellerivehistory.com
X-WR-CALDESC:Events for Bellerive Historical Society Inc.
REFRESH-INTERVAL;VALUE=DURATION:PT1H
X-Robots-Tag:noindex
X-PUBLISHED-TTL:PT1H
BEGIN:VTIMEZONE
TZID:Australia/Hobart
BEGIN:STANDARD
TZOFFSETFROM:+1100
TZOFFSETTO:+1000
TZNAME:AEST
DTSTART:20220402T160000
END:STANDARD
BEGIN:DAYLIGHT
TZOFFSETFROM:+1000
TZOFFSETTO:+1100
TZNAME:AEDT
DTSTART:20221001T160000
END:DAYLIGHT
BEGIN:STANDARD
TZOFFSETFROM:+1100
TZOFFSETTO:+1000
TZNAME:AEST
DTSTART:20230401T160000
END:STANDARD
BEGIN:DAYLIGHT
TZOFFSETFROM:+1000
TZOFFSETTO:+1100
TZNAME:AEDT
DTSTART:20230930T160000
END:DAYLIGHT
BEGIN:STANDARD
TZOFFSETFROM:+1100
TZOFFSETTO:+1000
TZNAME:AEST
DTSTART:20240406T160000
END:STANDARD
BEGIN:DAYLIGHT
TZOFFSETFROM:+1000
TZOFFSETTO:+1100
TZNAME:AEDT
DTSTART:20241005T160000
END:DAYLIGHT
BEGIN:STANDARD
TZOFFSETFROM:+1100
TZOFFSETTO:+1000
TZNAME:AEST
DTSTART:20250405T160000
END:STANDARD
BEGIN:DAYLIGHT
TZOFFSETFROM:+1000
TZOFFSETTO:+1100
TZNAME:AEDT
DTSTART:20251004T160000
END:DAYLIGHT
BEGIN:STANDARD
TZOFFSETFROM:+1100
TZOFFSETTO:+1000
TZNAME:AEST
DTSTART:20260404T160000
END:STANDARD
BEGIN:DAYLIGHT
TZOFFSETFROM:+1000
TZOFFSETTO:+1100
TZNAME:AEDT
DTSTART:20261003T160000
END:DAYLIGHT
BEGIN:STANDARD
TZOFFSETFROM:+1100
TZOFFSETTO:+1000
TZNAME:AEST
DTSTART:20270403T160000
END:STANDARD
BEGIN:DAYLIGHT
TZOFFSETFROM:+1000
TZOFFSETTO:+1100
TZNAME:AEDT
DTSTART:20271002T160000
END:DAYLIGHT
END:VTIMEZONE
BEGIN:VEVENT
DTSTART;TZID=Australia/Hobart:20260413T133000
DTEND;TZID=Australia/Hobart:20260413T150000
DTSTAMP:20260422T184851
CREATED:20251216T233015Z
LAST-MODIFIED:20260114T010321Z
UID:6614-1776087000-1776092400@www.bellerivehistory.com
SUMMARY:Community Radio Hobart FM History Vignettes Project  (second Monday of the month due to Easter)
DESCRIPTION:Our member Phil Tyson will update the meeting on our joint project with Hobart FM Community Radio. There has been a lot of interest in the project from members\, many of whom have contributed. By March the history vignettes who have been broadcast for a month.
URL:https://www.bellerivehistory.com/event/monthly-meeting-details-to-follow-second-monday-of-the-month-due-to-easter/
LOCATION:Howrah Community Centre\, 11 Howrah Road\, Howrah\, Hobart\, Tasmania\, 7018
CATEGORIES:Monthly Meeting
END:VEVENT
BEGIN:VEVENT
DTSTART;TZID=Australia/Hobart:20260302T190000
DTEND;TZID=Australia/Hobart:20260302T203000
DTSTAMP:20260422T184851
CREATED:20251216T232657Z
LAST-MODIFIED:20260114T005149Z
UID:6612-1772478000-1772483400@www.bellerivehistory.com
SUMMARY:Quiz Night
DESCRIPTION:Last year we did not hold the ever popular quiz night due to a full list of guest speakers. But its back for 2026. As always it will be conducted by John Sargent. Groups for the quiz will be formed on the night based on who attends.
URL:https://www.bellerivehistory.com/event/monthly-meeting-details-to-follow-2/
LOCATION:Howrah Community Centre\, 11 Howrah Road\, Howrah\, Hobart\, Tasmania\, 7018
CATEGORIES:Monthly Meeting
END:VEVENT
BEGIN:VEVENT
DTSTART;TZID=Australia/Hobart:20260202T133000
DTEND;TZID=Australia/Hobart:20260202T150000
DTSTAMP:20260422T184851
CREATED:20251216T232416Z
LAST-MODIFIED:20260114T004614Z
UID:6610-1770039000-1770044400@www.bellerivehistory.com
SUMMARY:My Early Days in Bellerive
DESCRIPTION:Anne Marmion and John Sargent will reminisce about their growing up in Bellerive. Other members will be given the opportunity to contribute.
URL:https://www.bellerivehistory.com/event/monthly-meeting-details-to-follow/
LOCATION:Howrah Community Centre\, 11 Howrah Road\, Howrah\, Hobart\, Tasmania\, 7018
CATEGORIES:Monthly Meeting
END:VEVENT
BEGIN:VEVENT
DTSTART;TZID=Australia/Hobart:20251201T113000
DTEND;TZID=Australia/Hobart:20251201T140000
DTSTAMP:20260422T184851
CREATED:20250108T001733Z
LAST-MODIFIED:20251016T031534Z
UID:6512-1764588600-1764597600@www.bellerivehistory.com
SUMMARY:End of Year Function: FERRY BOAT SHUFFLE
DESCRIPTION:This year instead of an end of year lunch there will be a ferry trip. \nDate & Time: Monday 1 December with 11.30 am departure and 2.00 pm drop off \nLunch: BYO but NO BYO alcoholic drinks as the ferry is licensed. \nDrinks: Available on board at very reasonable prices incl. tea and coffee \nCost:  $35 Adults (13 – 64)\,  $30 Seniors (65 – 99)\, $20  Child (6 – 12)\, \nWe will need to know approximate numbers and will ask for an indication at the November meeting or you can rsvp by 24 November by email bellerivehistory@gmail.com or text on phone  0400 974 056
URL:https://www.bellerivehistory.com/event/monthly-meeting-11/
LOCATION:Kangaroo Bay Ferry Terminal\, 4 Cambridge Road\, Bellerive\, Tasmania\, 7018\, Australia
CATEGORIES:Event
END:VEVENT
BEGIN:VEVENT
DTSTART;TZID=Australia/Hobart:20251103T190000
DTEND;TZID=Australia/Hobart:20251103T203000
DTSTAMP:20260422T184851
CREATED:20250108T001407Z
LAST-MODIFIED:20250917T003301Z
UID:6510-1762196400-1762201800@www.bellerivehistory.com
SUMMARY:UPDATE: Remember When
DESCRIPTION:John Sargent will discuss the amazing records and knowledge of local lads from Australia’s first representation in war in southern Africa. They fought for “not for self but for empire”. They left as representative of Tasmania and returned as representative of Australia.
URL:https://www.bellerivehistory.com/event/monthly-meeting-10/
LOCATION:Howrah Community Centre\, 11 Howrah Road\, Howrah\, Hobart\, Tasmania\, 7018
CATEGORIES:Event
END:VEVENT
BEGIN:VEVENT
DTSTART;TZID=Australia/Hobart:20251006T133000
DTEND;TZID=Australia/Hobart:20251006T150000
DTSTAMP:20260422T184851
CREATED:20250108T000929Z
LAST-MODIFIED:20250903T000923Z
UID:6508-1759757400-1759762800@www.bellerivehistory.com
SUMMARY:How Did We Get Here: The Story of the founding of the Bellerive Historic Society
DESCRIPTION:On 7 October the Governor will host a function to celebrate 35 years of the Bellerive Historic Society. At this month’s meeting\, Maggie Mars and Jill Robertson the Society’s founders\, will tell us the fascinating story about why and how they started it.
URL:https://www.bellerivehistory.com/event/monthly-meeting-9/
LOCATION:Howrah Community Centre\, 11 Howrah Road\, Howrah\, Hobart\, Tasmania\, 7018
CATEGORIES:Event
END:VEVENT
BEGIN:VEVENT
DTSTART;TZID=Australia/Hobart:20250901T190000
DTEND;TZID=Australia/Hobart:20250901T203000
DTSTAMP:20260422T184851
CREATED:20250107T235725Z
LAST-MODIFIED:20250723T000558Z
UID:6506-1756753200-1756758600@www.bellerivehistory.com
SUMMARY:Updated: Bellerive Historical Society Goes to Air and AGM
DESCRIPTION:The Bellerive Historical Society is working with Community Radio to produce and broadcast stories about Tasmania.  Phil Tyson from Community Radio will give an update of this project including examples of stories ready to be broadcast. Phil’s presentation will be preceded  by a short AGM.
URL:https://www.bellerivehistory.com/event/monthly-meeting-8/
LOCATION:Howrah Community Centre\, 11 Howrah Road\, Howrah\, Hobart\, Tasmania\, 7018
CATEGORIES:Event
END:VEVENT
BEGIN:VEVENT
DTSTART;TZID=Australia/Hobart:20250804T133000
DTEND;TZID=Australia/Hobart:20250804T150000
DTSTAMP:20260422T184851
CREATED:20250107T235428Z
LAST-MODIFIED:20250717T040223Z
UID:6504-1754314200-1754319600@www.bellerivehistory.com
SUMMARY:Updated: Dean Smith and Tunnel Hill Mushrooms
DESCRIPTION:Tunnel Hill Mushrooms is a Tasmanian based company specialising in the production of gourmet mushrooms. The mushrooms are grown in a historic railway tunnel that was once a section of the Bellerive to Sorell railway line which operated from 1892 to 1926. \nA video by our own Peter Oldham about the farm and mushroom production will be shown\, followed by a talk and Q & A session with Dean Smith from Tunnel Hill Mushrooms.
URL:https://www.bellerivehistory.com/event/monthly-meeting-7/
LOCATION:Howrah Community Centre\, 11 Howrah Road\, Howrah\, Hobart\, Tasmania\, 7018
CATEGORIES:Event
END:VEVENT
BEGIN:VEVENT
DTSTART;TZID=Australia/Hobart:20250707T190000
DTEND;TZID=Australia/Hobart:20250707T203000
DTSTAMP:20260422T184851
CREATED:20250107T231703Z
LAST-MODIFIED:20250604T002207Z
UID:6501-1751914800-1751920200@www.bellerivehistory.com
SUMMARY:Updated. Remember When
DESCRIPTION:Due to the non-availability of John Sargent his presentation Bellerive Boys and the Boer War has been postponed. In its place will be a selection of videos of past Bellerive events.
URL:https://www.bellerivehistory.com/event/monthly-meeting-6/
LOCATION:Howrah Community Centre\, 11 Howrah Road\, Howrah\, Hobart\, Tasmania\, 7018
CATEGORIES:Event
END:VEVENT
BEGIN:VEVENT
DTSTART;TZID=Australia/Hobart:20250602T133000
DTEND;TZID=Australia/Hobart:20250602T150000
DTSTAMP:20260422T184851
CREATED:20250107T231427Z
LAST-MODIFIED:20250513T234537Z
UID:6498-1748871000-1748876400@www.bellerivehistory.com
SUMMARY:Norfolk Island: Paradise to Convict Hell
DESCRIPTION:Rosie/Mike Severs are public speakers on historical subjects. In this presentation they will discuss Norfolk Island’s connection to early Tasmania.
URL:https://www.bellerivehistory.com/event/monthly-meeting-5/
LOCATION:Howrah Community Centre\, 11 Howrah Road\, Howrah\, Hobart\, Tasmania\, 7018
CATEGORIES:Event
END:VEVENT
BEGIN:VEVENT
DTSTART;TZID=Australia/Hobart:20250505T190000
DTEND;TZID=Australia/Hobart:20250505T203000
DTSTAMP:20260422T184851
CREATED:20250107T231206Z
LAST-MODIFIED:20250429T235728Z
UID:6496-1746471600-1746477000@www.bellerivehistory.com
SUMMARY:Bellerive Place Names
DESCRIPTION:Well-known local identity\, Wayne Smith\, historian\, author and public speaker on the origin of place names and their significance. Wayne will discuss place names on the Eastern Shore focusing on: \n\nfirst town plan of Bellerive\npossible source of the name\nearly Aboriginal names\nfirst land owners\nbushrangers in Kangaroo Bay\n\n.
URL:https://www.bellerivehistory.com/event/monthly-meeting-4/
LOCATION:Howrah Community Centre\, 11 Howrah Road\, Howrah\, Hobart\, Tasmania\, 7018
CATEGORIES:Event
END:VEVENT
BEGIN:VEVENT
DTSTART;TZID=Australia/Hobart:20250407T133000
DTEND;TZID=Australia/Hobart:20250407T150000
DTSTAMP:20260422T184851
CREATED:20250107T225935Z
LAST-MODIFIED:20250304T224217Z
UID:6493-1744032600-1744038000@www.bellerivehistory.com
SUMMARY:Memories of 50 Years as a Ferry Captain on the Derwent River
DESCRIPTION:Peter O’May is a descendant of the famous O’May family who arrived in Bellerive in 1856 and who were regular ferry operators from the 1860s until the present day. He will discuss his 50 years’ service and experience as a ferry captain.
URL:https://www.bellerivehistory.com/event/monthly-meeting-3/
LOCATION:Howrah Community Centre\, 11 Howrah Road\, Howrah\, Hobart\, Tasmania\, 7018
CATEGORIES:Event
END:VEVENT
BEGIN:VEVENT
DTSTART;TZID=Australia/Hobart:20250303T190000
DTEND;TZID=Australia/Hobart:20250303T203000
DTSTAMP:20260422T184851
CREATED:20250107T225656Z
LAST-MODIFIED:20250212T001956Z
UID:6491-1741028400-1741033800@www.bellerivehistory.com
SUMMARY:History of the Rosny Barn Complex
DESCRIPTION:John Sargent\, fourth generation Bellerive resident\, historian and author will discuss the history of the Rosny Barn Complex. The Barn dates from 1815 and John will discuss its relevance to the Clarence community. \nNon-members welcome
URL:https://www.bellerivehistory.com/event/monthly-meeting-2/
LOCATION:Howrah Community Centre\, 11 Howrah Road\, Howrah\, Hobart\, Tasmania\, 7018
CATEGORIES:Event
END:VEVENT
BEGIN:VEVENT
DTSTART;TZID=Australia/Hobart:20250203T133000
DTEND;TZID=Australia/Hobart:20250203T150000
DTSTAMP:20260422T184851
CREATED:20250107T225154Z
LAST-MODIFIED:20250121T234646Z
UID:6489-1738589400-1738594800@www.bellerivehistory.com
SUMMARY:Monthly Meeting: Port of Hobart - developments over the Years
DESCRIPTION:Jonathan Davis\, a maritime historian\, will give a presentation on the development\, over the years\, of the port of Hobart.
URL:https://www.bellerivehistory.com/event/monthly-meeting/
LOCATION:Howrah Community Centre\, 11 Howrah Road\, Howrah\, Hobart\, Tasmania\, 7018
CATEGORIES:Event
END:VEVENT
BEGIN:VEVENT
DTSTART;TZID=Australia/Hobart:20241204T120000
DTEND;TZID=Australia/Hobart:20241204T140000
DTSTAMP:20260422T184851
CREATED:20240619T013149Z
LAST-MODIFIED:20241105T035125Z
UID:6434-1733313600-1733320800@www.bellerivehistory.com
SUMMARY:End of Year Luncheon
DESCRIPTION:The annual BHS end of year lunch at the Waterfront Hotel will take place on Wednesday 4 December at 12 noon. If you want to attend contact Mike Geard on 0400 974 056 or email bellerivehistory@gmail.com.
URL:https://www.bellerivehistory.com/event/end-of-year-luncheon/
LOCATION:Kangaroo Bay Ferry Terminal\, 4 Cambridge Road\, Bellerive\, Tasmania\, 7018\, Australia
ATTACH;FMTTYPE=image/jpeg:https://www.bellerivehistory.com/wp-content/uploads/2019/06/BHS-Events-7-december-22-EOY-function.jpg
END:VEVENT
BEGIN:VEVENT
DTSTART;TZID=Australia/Hobart:20241105T190000
DTEND;TZID=Australia/Hobart:20241105T203000
DTSTAMP:20260422T184851
CREATED:20240904T001414Z
LAST-MODIFIED:20240925T213856Z
UID:6473-1730833200-1730838600@www.bellerivehistory.com
SUMMARY:Bellerive Bluff Land and Coastcare Group
DESCRIPTION:Graeme Rainbow from the Bellerive Land Care Group will discuss. This group aims to promote community involvement in rehabilitating and enhancing the Bellerive Bluff foreshore. Graeme will discuss past work such as fence\, construction of a viewing platform and planting. He will also discuss the group’s future aims.
URL:https://www.bellerivehistory.com/event/bellerive-bluff-land-and-coastcare-group/
LOCATION:Howrah Community Centre\, 11 Howrah Road\, Howrah\, Hobart\, Tasmania\, 7018
END:VEVENT
BEGIN:VEVENT
DTSTART;TZID=Australia/Hobart:20241001T133000
DTEND;TZID=Australia/Hobart:20241001T150000
DTSTAMP:20260422T184851
CREATED:20240522T013326Z
LAST-MODIFIED:20240925T213552Z
UID:6421-1727789400-1727794800@www.bellerivehistory.com
SUMMARY:Coastline of Tasmania
DESCRIPTION:Peter Marmion has almost completed a walk around the coastline of Tasmania. Come and enjoy his experiences and amazing photos.
URL:https://www.bellerivehistory.com/event/coastline-of-tasmania/
LOCATION:Howrah Community Centre\, 11 Howrah Road\, Howrah\, Hobart\, Tasmania\, 7018
END:VEVENT
BEGIN:VEVENT
DTSTART;TZID=Australia/Hobart:20240903T190000
DTEND;TZID=Australia/Hobart:20240903T203000
DTSTAMP:20260422T184851
CREATED:20240522T013749Z
LAST-MODIFIED:20240731T005538Z
UID:6423-1725390000-1725395400@www.bellerivehistory.com
SUMMARY:Show and Tell
DESCRIPTION:The ever popular annual Show and Tell meeting. Bring any historic item that may be of interest to fellow members.
URL:https://www.bellerivehistory.com/event/show-and-tell-2/
LOCATION:Howrah Community Centre\, 11 Howrah Road\, Howrah\, Hobart\, Tasmania\, 7018
END:VEVENT
BEGIN:VEVENT
DTSTART;TZID=Australia/Hobart:20240806T133000
DTEND;TZID=Australia/Hobart:20240806T150000
DTSTAMP:20260422T184851
CREATED:20240508T014724Z
LAST-MODIFIED:20240508T014833Z
UID:6406-1722951000-1722956400@www.bellerivehistory.com
SUMMARY:Annual Fun Quiz
DESCRIPTION:John Sargent will hold his annual fun quiz on local history.
URL:https://www.bellerivehistory.com/event/annual-fun-quiz/
LOCATION:Howrah Community Centre\, 11 Howrah Road\, Howrah\, Hobart\, Tasmania\, 7018
END:VEVENT
BEGIN:VEVENT
DTSTART;TZID=Australia/Hobart:20240702T190000
DTEND;TZID=Australia/Hobart:20240702T203000
DTSTAMP:20260422T184851
CREATED:20240605T004335Z
LAST-MODIFIED:20240605T004335Z
UID:6429-1719946800-1719952200@www.bellerivehistory.com
SUMMARY:THE TASMAN BRIDGE DISASTER REVISITED
DESCRIPTION:2025 with be the fiftieth anniversary of the Tasman Bridge collapse. John Sargent will be revisiting this dramatic event that had major social impact to the residents of both the eastern and western side of the Derwent River.
URL:https://www.bellerivehistory.com/event/the-tasman-bridge-disaster-revisited-2/
LOCATION:Howrah Community Centre\, 11 Howrah Road\, Howrah\, Hobart\, Tasmania\, 7018
END:VEVENT
BEGIN:VEVENT
DTSTART;TZID=Australia/Hobart:20240604T133000
DTEND;TZID=Australia/Hobart:20240604T150000
DTSTAMP:20260422T184851
CREATED:20240508T013924Z
LAST-MODIFIED:20240508T014941Z
UID:6402-1717507800-1717513200@www.bellerivehistory.com
SUMMARY:A Blast from the Past
DESCRIPTION:In this two part presentation John Sargent talks about his new book which is a fictional account of mid-1800s Wapping and Peter Oldham presents his new video about the Risdon Punt.
URL:https://www.bellerivehistory.com/event/a-blast-from-the-past/
LOCATION:Howrah Community Centre\, 11 Howrah Road\, Howrah\, Hobart\, Tasmania\, 7018
END:VEVENT
BEGIN:VEVENT
DTSTART;TZID=Australia/Hobart:20240515T100000
DTEND;TZID=Australia/Hobart:20240515T120000
DTSTAMP:20260422T184851
CREATED:20240508T015640Z
LAST-MODIFIED:20240508T015640Z
UID:6411-1715767200-1715774400@www.bellerivehistory.com
SUMMARY:OFFICE OPEN
DESCRIPTION:The office will be open for enquiries or if you just want to call in and have a chat.
URL:https://www.bellerivehistory.com/event/office-open-4/
LOCATION:Tasmania
END:VEVENT
BEGIN:VEVENT
DTSTART;TZID=Australia/Hobart:20240507T190000
DTEND;TZID=Australia/Hobart:20240507T203000
DTSTAMP:20260422T184851
CREATED:20240305T232655Z
LAST-MODIFIED:20240306T013635Z
UID:6390-1715108400-1715113800@www.bellerivehistory.com
SUMMARY:Great Tasmanian Crimes and Trails of the 19th Century
DESCRIPTION:Alan Townsend\, Historical Officer for Clarence City Council\, will be taking us into the dark side of Tasmanian history with his talk on great crimes and trails of the 19th Century.
URL:https://www.bellerivehistory.com/event/presentation-by-alan-townsend-historical-officer-for-clarence-city-council/
LOCATION:Howrah Community Centre\, 11 Howrah Road\, Howrah\, Hobart\, Tasmania\, 7018
END:VEVENT
BEGIN:VEVENT
DTSTART;TZID=Australia/Hobart:20240402T133000
DTEND;TZID=Australia/Hobart:20240402T150000
DTSTAMP:20260422T184851
CREATED:20240206T230715Z
LAST-MODIFIED:20240326T041805Z
UID:6383-1712064600-1712070000@www.bellerivehistory.com
SUMMARY:CANCELLATION OF "THE TASMAN BRIDGE DISASTER REVISITED" PRESENTATION
DESCRIPTION:The 2 April presentation of  “The Tasman Bridge Disaster Revisited” by John Sargent and April meeting of the Society has been cancelled due to the venue\, the Howrah Community Centre\, being closed for the Easter weekend.
URL:https://www.bellerivehistory.com/event/the-tasman-bridge-disaster-revisited/
LOCATION:Howrah Community Centre\, 11 Howrah Road\, Howrah\, Hobart\, Tasmania\, 7018
CATEGORIES:Event
END:VEVENT
BEGIN:VEVENT
DTSTART;TZID=Australia/Hobart:20240306T100000
DTEND;TZID=Australia/Hobart:20240306T120000
DTSTAMP:20260422T184851
CREATED:20240228T002525Z
LAST-MODIFIED:20240228T002525Z
UID:6388-1709719200-1709726400@www.bellerivehistory.com
SUMMARY:OFFICE OPEN
DESCRIPTION:The office will be open for enquiries or if you just want to call in and have a chat.
URL:https://www.bellerivehistory.com/event/office-open-3/
LOCATION:Bellerive Community Arts Centre\, 17 Cambridge Road\, Bellerive\, Tasmania\, 7018\, Australia
CATEGORIES:Event
END:VEVENT
BEGIN:VEVENT
DTSTART;TZID=Australia/Hobart:20240305T190000
DTEND;TZID=Australia/Hobart:20240305T203000
DTSTAMP:20260422T184851
CREATED:20240123T233624Z
LAST-MODIFIED:20240131T002527Z
UID:6375-1709665200-1709670600@www.bellerivehistory.com
SUMMARY:The History of Claremont Army Camp and the Cadbury peninsula
DESCRIPTION:John Wadsley has a background as a professional heritage consultant and historian. He has a strong interest in Australian military history and co-authored the bicentennial history of Anglesea Barracks in Hobart published in 2011. The presentation will explore the history of Triffitts Point\, later known as Cadbury peninsula. From its early colonial history as farm land\, through its time as an army camp and then industrialisation with the coming of Cadbury to Tasmania to the present with a proposal to for a housing development.
URL:https://www.bellerivehistory.com/event/the-history-of-claremont-army-camp-and-the-cadbury-peninsula/
LOCATION:Howrah Community Centre\, 11 Howrah Road\, Howrah\, Hobart\, Tasmania\, 7018
END:VEVENT
BEGIN:VEVENT
DTSTART;TZID=Australia/Hobart:20240207T093000
DTEND;TZID=Australia/Hobart:20240207T120000
DTSTAMP:20260422T184851
CREATED:20240131T003407Z
LAST-MODIFIED:20240131T003407Z
UID:6379-1707298200-1707307200@www.bellerivehistory.com
SUMMARY:OFFICE OPEN
DESCRIPTION:The office will be open for enquiries or if you just want to call in and have a chat.
URL:https://www.bellerivehistory.com/event/office-open-2/
LOCATION:Bellerive Community Arts Centre\, 17 Cambridge Road\, Bellerive\, Tasmania\, 7018\, Australia
END:VEVENT
BEGIN:VEVENT
DTSTART;TZID=Australia/Hobart:20240206T133000
DTEND;TZID=Australia/Hobart:20240206T150000
DTSTAMP:20260422T184851
CREATED:20240123T231537Z
LAST-MODIFIED:20240123T231848Z
UID:6371-1707226200-1707231600@www.bellerivehistory.com
SUMMARY:Katie Jennings
DESCRIPTION:Karen Darby is the great granddaughter of William and Katie Jennings\, William features in our Bellerive Heritage book volume 4. Karen will be talking about Katie Jennings who was a young bride in Bellerive in 1920 and lived there until 1939.
URL:https://www.bellerivehistory.com/event/katie-jennings/
LOCATION:Howrah Community Centre\, 11 Howrah Road\, Howrah\, Hobart\, Tasmania\, 7018
END:VEVENT
BEGIN:VEVENT
DTSTART;TZID=Australia/Hobart:20231107T133000
DTEND;TZID=Australia/Hobart:20231107T151500
DTSTAMP:20260422T184851
CREATED:20230830T003625Z
LAST-MODIFIED:20230830T003625Z
UID:6350-1699363800-1699370100@www.bellerivehistory.com
SUMMARY:MONTHLY GATHERING: MELBOURNE CUP SPECIAL
DESCRIPTION:It is not well known that there was horse running on the Eastern Shore at Muddy Plains. In our Melbourne Cup Special gathering John Sargent will tell us about the history of horse racing at Muddy Plains. Then for those who wish to stay\, we will watch the Melbourne Cup together.
URL:https://www.bellerivehistory.com/event/monthly-gathering-melbourne-cup-special/
LOCATION:Tasmania
CATEGORIES:Event
END:VEVENT
BEGIN:VEVENT
DTSTART;TZID=Australia/Hobart:20231018T100000
DTEND;TZID=Australia/Hobart:20231018T150000
DTSTAMP:20260422T184851
CREATED:20230816T014526Z
LAST-MODIFIED:20230816T014526Z
UID:6329-1697623200-1697641200@www.bellerivehistory.com
SUMMARY:SENIOR'S WEEK: BELLERIVE HUB OPEN DAY
DESCRIPTION:Bellerive Historical Society is one of five volunteer-run Bellerive organisations opening their doors on the Wednesday of Seniors Week (18 October) to offer a unique “hub” experience in multiple venues located within close walking distance of each other. Visit us at 17 CAMBRIDGE ROAD\, BELLERIVE (ARTS CENTRE). You may also want to take the opportunity to visit the wonderful collection in the Sound Museum\, do a little Family History\, observe some arts and craft\, check out the Education and Research Centre and do a short walk of historical Bellerive Bluff after collecting a free map from us.
URL:https://www.bellerivehistory.com/event/seniors-week-bellerive-hub-open-day/
LOCATION:Tasmania
CATEGORIES:Event
END:VEVENT
END:VCALENDAR