BEGIN:VCALENDAR
VERSION:2.0
PRODID:-//Bellerive Historical Society Inc. - ECPv6.15.17//NONSGML v1.0//EN
CALSCALE:GREGORIAN
METHOD:PUBLISH
X-WR-CALNAME:Bellerive Historical Society Inc.
X-ORIGINAL-URL:https://www.bellerivehistory.com
X-WR-CALDESC:Events for Bellerive Historical Society Inc.
REFRESH-INTERVAL;VALUE=DURATION:PT1H
X-Robots-Tag:noindex
X-PUBLISHED-TTL:PT1H
BEGIN:VTIMEZONE
TZID:Australia/Hobart
BEGIN:STANDARD
TZOFFSETFROM:+1100
TZOFFSETTO:+1000
TZNAME:AEST
DTSTART:20250405T160000
END:STANDARD
BEGIN:DAYLIGHT
TZOFFSETFROM:+1000
TZOFFSETTO:+1100
TZNAME:AEDT
DTSTART:20251004T160000
END:DAYLIGHT
BEGIN:STANDARD
TZOFFSETFROM:+1100
TZOFFSETTO:+1000
TZNAME:AEST
DTSTART:20260404T160000
END:STANDARD
BEGIN:DAYLIGHT
TZOFFSETFROM:+1000
TZOFFSETTO:+1100
TZNAME:AEDT
DTSTART:20261003T160000
END:DAYLIGHT
BEGIN:STANDARD
TZOFFSETFROM:+1100
TZOFFSETTO:+1000
TZNAME:AEST
DTSTART:20270403T160000
END:STANDARD
BEGIN:DAYLIGHT
TZOFFSETFROM:+1000
TZOFFSETTO:+1100
TZNAME:AEDT
DTSTART:20271002T160000
END:DAYLIGHT
END:VTIMEZONE
BEGIN:VEVENT
DTSTART;TZID=Australia/Hobart:20260601T133000
DTEND;TZID=Australia/Hobart:20260601T150000
DTSTAMP:20260420T012147
CREATED:20251216T233458Z
LAST-MODIFIED:20260310T232258Z
UID:6618-1780320600-1780326000@www.bellerivehistory.com
SUMMARY:Monthly Meeting: Convict Artists and Artisans
DESCRIPTION:Some of the convicts who came to Van Diemens Land were highly skilled artists\, silversmiths\, needleworkers\, furniture-makers and builders. Rosie and Mike Severs will dicuss and illustrates some of their works.
URL:https://www.bellerivehistory.com/event/monthly-meeting-details-to-follow-4/
LOCATION:Howrah Community Centre\, 11 Howrah Road\, Howrah\, Hobart\, Tasmania\, 7018
CATEGORIES:Monthly Meeting
END:VEVENT
BEGIN:VEVENT
DTSTART;TZID=Australia/Hobart:20260706T190000
DTEND;TZID=Australia/Hobart:20260706T203000
DTSTAMP:20260420T012147
CREATED:20251216T233636Z
LAST-MODIFIED:20260310T235258Z
UID:6620-1783364400-1783369800@www.bellerivehistory.com
SUMMARY:Monthly Meeting: Centennial Anniversary of the Closing of the Bellerive to Sorell Railway
DESCRIPTION:On the centennial of the closing the of the Bellerive to Sorell Railway John Houghton will discuss its history. Also the video “Bellerive to sorell Railway Walks” will be shown. The video covers a walk along the tracks by members of the Bellerive Historical Society in 2003.
URL:https://www.bellerivehistory.com/event/monthly-meeting-details-to-follow-5/
LOCATION:Howrah Community Centre\, 11 Howrah Road\, Howrah\, Hobart\, Tasmania\, 7018
CATEGORIES:Monthly Meeting
END:VEVENT
BEGIN:VEVENT
DTSTART;TZID=Australia/Hobart:20260803T133000
DTEND;TZID=Australia/Hobart:20260803T150000
DTSTAMP:20260420T012147
CREATED:20251216T233931Z
LAST-MODIFIED:20260310T235914Z
UID:6622-1785763800-1785769200@www.bellerivehistory.com
SUMMARY:Monthly Meeting: Show and Tell
DESCRIPTION:We will be holding the ever popular show and tell day. Members are asked to bring along any old item of interest to show and tell us about it. A short AGM will preceed the meeting.
URL:https://www.bellerivehistory.com/event/monthly-meeting-details-to-follow-6/
LOCATION:Howrah Community Centre\, 11 Howrah Road\, Howrah\, Hobart\, Tasmania\, 7018
CATEGORIES:Monthly Meeting
END:VEVENT
BEGIN:VEVENT
DTSTART;TZID=Australia/Hobart:20260907T190000
DTEND;TZID=Australia/Hobart:20260907T203000
DTSTAMP:20260420T012147
CREATED:20251216T234210Z
LAST-MODIFIED:20251216T234210Z
UID:6624-1788807600-1788813000@www.bellerivehistory.com
SUMMARY:Monthly Meeting: Details to follow
DESCRIPTION:
URL:https://www.bellerivehistory.com/event/monthly-meeting-details-to-follow-7/
LOCATION:Howrah Community Centre\, 11 Howrah Road\, Howrah\, Hobart\, Tasmania\, 7018
CATEGORIES:Monthly Meeting
END:VEVENT
BEGIN:VEVENT
DTSTART;TZID=Australia/Hobart:20261005T133000
DTEND;TZID=Australia/Hobart:20261005T150000
DTSTAMP:20260420T012147
CREATED:20251216T234444Z
LAST-MODIFIED:20251216T234444Z
UID:6626-1791207000-1791212400@www.bellerivehistory.com
SUMMARY:Monthly Meeting: Details to follow
DESCRIPTION:
URL:https://www.bellerivehistory.com/event/monthly-meeting-details-to-follow-8/
LOCATION:Howrah Community Centre\, 11 Howrah Road\, Howrah\, Hobart\, Tasmania\, 7018
CATEGORIES:Monthly Meeting
END:VEVENT
BEGIN:VEVENT
DTSTART;TZID=Australia/Hobart:20261102T190000
DTEND;TZID=Australia/Hobart:20261102T203000
DTSTAMP:20260420T012147
CREATED:20251216T234650Z
LAST-MODIFIED:20251216T234650Z
UID:6628-1793646000-1793651400@www.bellerivehistory.com
SUMMARY:Monthly Meeting: Details to follow
DESCRIPTION:
URL:https://www.bellerivehistory.com/event/monthly-meeting-details-to-follow-9/
LOCATION:Howrah Community Centre\, 11 Howrah Road\, Howrah\, Hobart\, Tasmania\, 7018
CATEGORIES:Monthly Meeting
END:VEVENT
END:VCALENDAR